BEGIN:VCALENDAR
VERSION:2.0
METHOD:PUBLISH
BEGIN:VEVENT
DTSTART:20190227T130000
DTEND:20190227T160000
LOCATION:  ,  
TRANSP: OPAQUE
SEQUENCE:0
UID:
DTSTAMP:20190301T110334Z
SUMMARY:Home Open - 
DESCRIPTION:
PRIORITY:1
CLASS:PUBLIC
BEGIN:VALARM
TRIGGER:-PT10080M
ACTION:DISPLAY
DESCRIPTION:Reminder
END:VALARM
END:VEVENT
END:VCALENDAR
