BEGIN:VCALENDAR
VERSION:2.0
METHOD:PUBLISH
BEGIN:VEVENT
DTSTART:20180225T110000
DTEND:20180225T120000
LOCATION:Lot 1910 Newry Trail Smithfield, QLD 4878
TRANSP: OPAQUE
SEQUENCE:0
UID:
DTSTAMP:20180224T085256Z
SUMMARY:Home Open - Family Home with Media room
DESCRIPTION:Brand new 4 bedroom, 2 bathrooms & a separate media room on a great block in the fantastic community of Smithfield Village estate.
Just released to the market, this fabulous home comes complete with all the inclusions you deserve... porcelain tiles, stone benchtops ( the laundry is done to match the kitchen), exclusive brand quality appliances & naturally is fully air conditioned, landscaped with auto irrigation, driveway & paths, clothesline & letterbox..... just move in & relax.
PRIORITY:1
CLASS:PUBLIC
BEGIN:VALARM
TRIGGER:-PT10080M
ACTION:DISPLAY
DESCRIPTION:Reminder
END:VALARM
END:VEVENT
END:VCALENDAR
