BEGIN:VCALENDAR
VERSION:2.0
METHOD:PUBLISH
BEGIN:VEVENT
DTSTART:20180225T110000
DTEND:20180225T120000
LOCATION:Lot 1909 Newry Trail Smithfield, QLD 4878
TRANSP: OPAQUE
SEQUENCE:0
UID:
DTSTAMP:20180224T085306Z
SUMMARY:Home Open - Bring the family to Smithfield
DESCRIPTION:This beautifully designed Kenfrost home is in such a great location.
Plenty of room for the family with 4 bedrooms, 2 bathrooms. The main bedroom has a ensuite and walk in robe, all the other bedrooms have built in robes.
Fully compact kitchen all finished with stone bench tops, gas cooktop, electric oven, range hood and dishwasher.
Double auto lock up garage and fully landscaped garden with auto irrigation.
There are great schools in the area, Smithfield Shopping Centre, child care, public swimming pool, fantastic beaches close by and only 15 mins to the City.
This is a must see home.
PRIORITY:1
CLASS:PUBLIC
BEGIN:VALARM
TRIGGER:-PT10080M
ACTION:DISPLAY
DESCRIPTION:Reminder
END:VALARM
END:VEVENT
END:VCALENDAR
